BEGIN:VCALENDAR
VERSION:2.0
PRODID:-//TYPO3/NONSGML Calendarize//EN
BEGIN:VEVENT
UID:calendarize-deutscher-muehlentag-3
DTSTAMP:20260420T130835Z
DTSTART:20240520T080000Z
DTEND:20240520T160000Z
SUMMARY:Deutscher Mühlentag
DESCRIPTION:Im letzten Jahre haben wir die Nach-Corona-Zeit eingeläutet u
 nd wieder ein normales Mühlenfest gefeiert\, mit Musik\, Verpflegungsstä
 nden und natürlich mit viel Informationen zu unseren Mühlen. Das wollen 
 wir auch in diesem Jahr so halten. Kommen Sie deshalb gerne bei uns vorbei
 . 
X-ALT-DESC;FMTTYPE=text/html:<p>Im letzten Jahre haben wir die Nach-Corona
 -Zeit eingeläutet und wieder ein normales Mühlenfest gefeiert\, mit Musi
 k\, Verpflegungsständen und natürlich mit viel Informationen zu unseren 
 Mühlen. Das wollen wir auch in diesem Jahr so halten. Kommen Sie deshalb 
 gerne bei uns vorbei.&nbsp\;</p>
LOCATION:Windmühle Lechtingen (t3://record?identifier=tx_milldatabase_dom
 ain_model_mill&uid=200 _blank)
END:VEVENT
END:VCALENDAR
