BEGIN:VCALENDAR
VERSION:2.0
PRODID:-//TYPO3/NONSGML Calendarize//EN
BEGIN:VEVENT
UID:calendarize-jahreshauptversammlung-in-barver
DTSTAMP:20260422T091525Z
DTSTART:20240810T140000Z
SUMMARY:Jahreshauptversammlung in Barver
DESCRIPTION:Der Vorstand des Förderverein Galerieholländerwindmühle Bar
 ver e.V. lädt am 10.08.2024 um 16 Uhr zur Jahreshauptversammlung im Dorfs
 gemeinschaftshaus Barver (Am Sportplatz 335\, 49453 Barver) ein. Die Einla
 dung\, das Protokoll der letzten Mitgliederversammlung in Januar sowie das
  Potokoll der Jahreshauptversammlung des letzten Jahres sind angehängt. A
 lle Dateien sind ebenfalls auf der Internetseite des Vereines zu finden.
X-ALT-DESC;FMTTYPE=text/html:<p><span class="font_large">Der Vorstand des 
 Förderverein Galerieholländerwindmühle Barver e.V. lädt am 10.08.2024 
 um 16 Uhr zur Jahreshauptversammlung im Dorfsgemeinschaftshaus Barver (Am 
 Sportplatz 335\, 49453 Barver) ein. Die Einladung\, das Protokoll der letz
 ten Mitgliederversammlung in Januar sowie das Potokoll der Jahreshauptvers
 ammlung des letzten Jahres sind angehängt. Alle Dateien sind ebenfalls au
 f der Internetseite des Vereines zu finden.</span></p>
LOCATION:
END:VEVENT
END:VCALENDAR
