BEGIN:VCALENDAR
VERSION:2.0
PRODID:-//TYPO3/NONSGML Calendarize//EN
BEGIN:VEVENT
UID:calendarize-maibaumsetzen-an-der-schweger-muehle-1
DTSTAMP:20260420T132827Z
DTSTART:20240501T080000Z
DTEND:20240501T180000Z
SUMMARY:Maibaumsetzen
DESCRIPTION:Schon seit 1994 wird an der Schweger Mühle unter Beteiligung 
 der Dinklager Bevölkerung am 1. Mai ein Maibaum mit vereinten Kräften au
 fgestellt. Die Mühle ist an diesem Tag Anlaufpunkt für zahlreiche Besuch
 ergruppen\, welche zu Fuß\, mit oder ohne Bollerwagen\, oder mit Fahrräd
 ern auf dem Mühlenplatz eine Rast einlegen. Im Backhaus werden frisch geb
 ackene Brote aus dem Steinbackofen und im Göpelhaus frisch gebackene Blec
 hkuchen und Kaffee zur Stärkung angeboten. Getränke für Groß und Klein
  sind natürlich auch im Angebot. Außerdem kann die Mühle besichtigt wer
 den.
X-ALT-DESC;FMTTYPE=text/html:<p>Schon seit 1994 wird an der Schweger Mühl
 e unter Beteiligung der Dinklager Bevölkerung am 1. Mai ein Maibaum mit v
 ereinten Kräften aufgestellt. Die Mühle ist an diesem Tag Anlaufpunkt fü
 r zahlreiche Besuchergruppen\, welche zu Fuß\, mit oder ohne Bollerwagen\
 , oder mit Fahrrädern auf dem Mühlenplatz eine Rast einlegen. Im Backhau
 s werden frisch gebackene Brote aus dem Steinbackofen und im Göpelhaus fr
 isch gebackene Blechkuchen und Kaffee zur Stärkung angeboten. Getränke f
 ür Groß und Klein sind natürlich auch im Angebot. Außerdem kann die Mü
 hle besichtigt werden.</p>
LOCATION:Schweger Mühle (t3://record?identifier=tx_milldatabase_domain_mo
 del_mill&uid=686 _blank)
END:VEVENT
END:VCALENDAR
