BEGIN:VCALENDAR
VERSION:2.0
PRODID:-//TYPO3/NONSGML Calendarize//EN
BEGIN:VEVENT
UID:calendarize-mitgliederversammlung-2026
DTSTAMP:20260422T122213Z
DTSTART:20260606T090000Z
SUMMARY:Mitgliederversammlung 2026
DESCRIPTION:Die diesjährige Jahreshauptversammlung findet am Samstag 6. J
 uni 2026 im MUSEUM INDUSTRIEKULTUR in Osnabrück statt.\nBeginn der Sitzu
 ng ist um 11 Uhr.\nEine Einladung mit Tagesordnung erhalten die Mitglieder
  in Kürze\nTagungsort:\nMuseum Industriekultur Veranstaltungssaal im Hase
 schachtgebäude Fürstenauer Weg 171 49090 Osnabrück Koordinaten Piesberg
 : 52.3168° N\, 8.0163° O\nAnfahrt mit dem ÖPNV:\nDas Museum Industrieku
 ltur Osnabrück verfügt über eine eigene Bushaltestelle\, die „Industr
 iemuseum“ heißt und nur wenige Meter vom Haseschachtgebäude entfernt l
 iegt. Dort hält die Buslinie Linie 520/18 (Osnabrück/ Hollage).\nInfos 
 zum MIK (Museum Industriekultur Osnabrück):\nDas MIK Museum Industriekult
 ur Osnabrück liegt mitten im wunderschönen Natur- und UNESCO-Geopark TER
 RA.vita am Osnabrücker Piesberg auf dem Areal einer ehemaligen Steinkohle
 nzeche.\nAuf dem weitläufigen Gelände mit zahlreichen denkmalgeschützte
 n Gebäuden gibt es viel zu entdecken und zu erleben\, drinnen und drauße
 n! In unmittelbarer Nähe bietet der noch aktive Steinbruch\, der von vers
 chiedenen Rundwegen eingesehen werden kann\, spektakuläre Einblicke in di
 e Erdgeschichte. Natur und Kultur\, Geschichte und Gegenwart treffen bei u
 ns unmittelbar aufeinander. \nAus dem besonderen Standort am Piesberg erg
 eben sich die Themen des MIK – das Spannungsfeld Mensch\, Natur\, Wirtsc
 haft steht im Zentrum der Ausstellungen und Angebote.\nDie interaktive Dau
 erausstellung erzählt davon\, wie die natürlichen Gegebenheiten die Wirt
 schaft prägten und diese ihrerseits die Landschaft veränderte. Nicht nur
  historische Objekte\, sondern auch zahlreiche Mitmach-Stationen und eine 
 eigene Kinderspur vermitteln das Leben und Arbeiten der Menschen im 19. un
 d frühen 20. Jahrhundert aufspannende und lebendige Weise. Die mächtigen
  Dampfmaschinen lassen den Boden beben\, wenn wir sie für Sie in Betrieb 
 setzen. Ein ganz besonderes Erlebnis ist die Fahrt mit dem gläsernen Fahr
 stuhl 30 Meter in die Tiefe\, in den begehbaren Hasestollen!\nVielfältige
  museumspädagogische Angebote wie Geocaching\, Fossiliensuche am Piesberg
  und Papierschöpfen laden zum Mitmachen ein. Mit wechselnden großen Son
 derausstellungen knüpft das MIK an gegenwärtige gesellschaftliche Entwic
 klungen an und zeigt Perspektiven für die Zukunft auf.\nDas Café MIK und
  der Biergarten laden in historischer Atmosphäre mit regionalen Angeboten
  zum Verweilen und Genießen ein.  \n\n
X-ALT-DESC;FMTTYPE=text/html:<p><strong>Die diesjährige Jahreshauptversam
 mlung findet am Samstag 6. Juni 2026 im&nbsp\;</strong><strong>MUSEUM INDU
 STRIEKULTUR in Osnabrück statt.</strong></p>\n<p>Beginn der Sitzung ist u
 m 11 Uhr.</p>\n<p>Eine Einladung mit Tagesordnung erhalten die Mitglieder 
 in Kürze</p>\n<p><strong>Tagungsort:</strong></p>\n<p><strong>Museum Indu
 striekultur</strong><br /> Veranstaltungssaal im Haseschachtgebäude<br />
  Fürstenauer Weg 171<br /> 49090 Osnabrück<br /> Koordinaten Piesberg: 5
 2.3168° N\, 8.0163° O</p>\n<p><strong>Anfahrt mit dem ÖPNV:</strong></p
 >\n<p>Das Museum Industriekultur Osnabrück verfügt über eine eigene Bus
 haltestelle\, die „Industriemuseum“ heißt und nur wenige Meter vom Ha
 seschachtgebäude entfernt liegt.&nbsp\;Dort hält die Buslinie Linie 520/
 18 (Osnabrück/ Hollage).</p>\n<p><strong>Infos zum MIK (Museum Industriek
 ultur Osnabrück):</strong></p>\n<p>Das MIK Museum Industriekultur Osnabrü
 ck liegt mitten im wunderschönen Natur- und UNESCO-Geopark TERRA.vita am 
 Osnabrücker Piesberg auf dem Areal einer ehemaligen Steinkohlenzeche.</p>
 \n<p>Auf dem weitläufigen Gelände mit zahlreichen denkmalgeschützten Ge
 bäuden gibt es viel zu entdecken und zu erleben\, drinnen und draußen! I
 n unmittelbarer Nähe bietet der noch aktive Steinbruch\, der von verschie
 denen Rundwegen eingesehen werden kann\, spektakuläre Einblicke in die Er
 dgeschichte. Natur und Kultur\, Geschichte und Gegenwart treffen bei uns u
 nmittelbar aufeinander.&nbsp\;</p>\n<p>Aus dem besonderen Standort am Pies
 berg ergeben sich die Themen des MIK – das Spannungsfeld Mensch\, Natur\
 , Wirtschaft steht im Zentrum der Ausstellungen und Angebote.</p>\n<p>Die 
 interaktive Dauerausstellung erzählt davon\, wie die natürlichen Gegeben
 heiten die Wirtschaft prägten und diese ihrerseits die Landschaft veränd
 erte. Nicht nur historische Objekte\, sondern auch zahlreiche Mitmach-Stat
 ionen und eine eigene Kinderspur vermitteln das Leben und Arbeiten der Men
 schen im 19. und frühen 20. Jahrhundert aufspannende und lebendige Weise.
  Die mächtigen Dampfmaschinen lassen den Boden beben\, wenn wir sie für 
 Sie in Betrieb setzen. Ein ganz besonderes Erlebnis ist die Fahrt mit dem 
 gläsernen Fahrstuhl 30 Meter in die Tiefe\, in den begehbaren Hasestollen
 !</p>\n<p>Vielfältige museumspädagogische Angebote wie Geocaching\, Foss
 iliensuche am Piesberg und Papierschöpfen laden zum Mitmachen ein.&nbsp\;
 Mit wechselnden großen Sonderausstellungen knüpft das MIK an gegenwärti
 ge gesellschaftliche Entwicklungen an und zeigt Perspektiven für die Zuku
 nft auf.</p>\n<p>Das Café MIK und der Biergarten laden in historischer At
 mosphäre mit regionalen Angeboten zum Verweilen und Genießen ein.<br /> 
 &nbsp\;</p>\n\n
LOCATION:Museum Industriekultur Osnabrück (https://mik-osnabrueck.de/ _bl
 ank)
END:VEVENT
END:VCALENDAR
