BEGIN:VCALENDAR
VERSION:2.0
PRODID:-//TYPO3/NONSGML Calendarize//EN
BEGIN:VEVENT
UID:calendarize-tag-der-offenen-tuer-20240519
DTSTAMP:20260420T132725Z
DTSTART:20240519T120000Z
DTEND:20240519T150000Z
SUMMARY:Tag der offenen Tür
DESCRIPTION:
X-ALT-DESC;FMTTYPE=text/html:
LOCATION:Windmühle Jan Wind in Etelsen (t3://record?identifier=tx_milldat
 abase_domain_model_mill&uid=725 _blank)
END:VEVENT
END:VCALENDAR
