BEGIN:VCALENDAR
VERSION:2.0
PRODID:-//TYPO3/NONSGML Calendarize//EN
BEGIN:VEVENT
UID:calendarize-deutscher-muehlentag-2026
DTSTAMP:20260421T152611Z
DTSTART:20260525T080000Z
DTEND:20260525T160000Z
SUMMARY:Deutscher Mühlentag 2026
DESCRIPTION:
X-ALT-DESC;FMTTYPE=text/html:
LOCATION:Windmühle Barver (t3://record?identifier=tx_milldatabase_domain_
 model_mill&uid=373)
END:VEVENT
END:VCALENDAR
